BEGIN:VCALENDAR
VERSION:2.0
PRODID:-//jEvents 2.0 for Joomla//EN
CALSCALE:GREGORIAN
METHOD:PUBLISH
BEGIN:VTIMEZONE
TZID:Europe/Berlin
BEGIN:STANDARD
DTSTART:20250327T100000
RDATE:20250330T030000
TZOFFSETFROM:+0200
TZOFFSETTO:+0100
TZNAME:Europe/Berlin CET
END:STANDARD
BEGIN:STANDARD
DTSTART:20251026T020000
RDATE:20260329T030000
TZOFFSETFROM:+0200
TZOFFSETTO:+0100
TZNAME:Europe/Berlin CET
END:STANDARD
BEGIN:STANDARD
DTSTART:20261025T020000
RDATE:20270328T030000
TZOFFSETFROM:+0200
TZOFFSETTO:+0100
TZNAME:Europe/Berlin CET
END:STANDARD
BEGIN:STANDARD
DTSTART:20271031T020000
RDATE:20280326T030000
TZOFFSETFROM:+0200
TZOFFSETTO:+0100
TZNAME:Europe/Berlin CET
END:STANDARD
BEGIN:DAYLIGHT
DTSTART:20250330T030000
RDATE:20251026T020000
TZOFFSETFROM:+0100
TZOFFSETTO:+0200
TZNAME:Europe/Berlin CEST
END:DAYLIGHT
BEGIN:DAYLIGHT
DTSTART:20260329T030000
RDATE:20261025T020000
TZOFFSETFROM:+0100
TZOFFSETTO:+0200
TZNAME:Europe/Berlin CEST
END:DAYLIGHT
BEGIN:DAYLIGHT
DTSTART:20270328T030000
RDATE:20271031T020000
TZOFFSETFROM:+0100
TZOFFSETTO:+0200
TZNAME:Europe/Berlin CEST
END:DAYLIGHT
END:VTIMEZONE
BEGIN:VEVENT
UID:3747c111ecd12493839d35bc1af1059b
CATEGORIES:Rad
CREATED:20260307T165537
SUMMARY:Rad-Werkstatt
DESCRIPTION:Ende März ist es Zeit, die Räder wieder aus dem Winterschlaf zu wecken und 
 für die anstehenden Touren herzurichten. Otto und Marcus geben viele Tipps 
 für den sorgfältigen Bike-Check und zeigen die richtige Bike-Einstellung. J
 eder kann mit seinem Rad mitmachen, allerdings ist der Platz am Badweiher b
 egrenzt.\nDaher bitte anmelden bei:\nMarcus,Tel: 0151-40745341\nOtto,Tel: 0
 8171-21371 oder 0157-35482430\nMail: Diese E-Mail-Adresse ist vor Spambots 
 geschützt! Zur Anzeige muss JavaScript eingeschaltet sein.\nMax. Teilnehmer
 zahl: 15\nTreffpunkt ist die Hütte am Campingplatz Badweiher.\n
X-ALT-DESC;FMTTYPE=text/html:<p>Ende März ist es Zeit, die Räder wieder aus dem Winterschlaf zu wecken u
 nd für die anstehenden Touren herzurichten. Otto und Marcus geben viele Tip
 ps für den sorgfältigen Bike-Check und zeigen die richtige Bike-Einstellung
 . Jeder kann mit seinem Rad mitmachen, allerdings ist der Platz am Badweihe
 r begrenzt.</p><p>Daher <strong>bitte anmelden</strong> bei:</p><p>Marcus,T
 el: 0151-40745341<br />Otto,Tel: 08171-21371 oder 0157-35482430<br />Mail: 
 <joomla-hidden-mail  is-link="1" is-email="1" first="bWFyY3VzLmQ=" last="bm
 F0dXJmcmV1bmRlLXdvbGZyYXRzaGF1c2VuLmRl" text="bWFyY3VzLmRAbmF0dXJmcmV1bmRlL
 XdvbGZyYXRzaGF1c2VuLmRl" base="" >Diese E-Mail-Adresse ist vor Spambots ges
 chützt! Zur Anzeige muss JavaScript eingeschaltet sein.</joomla-hidden-mail
 ></p><p>Max. Teilnehmerzahl: 15</p><p><strong>Treffpunkt ist die Hütte am C
 ampingplatz Badweiher.</strong></p>
DTSTAMP:20260420T115639
DTSTART;TZID=Europe/Berlin:20260328T100000
SEQUENCE:0
TRANSP:OPAQUE
END:VEVENT
END:VCALENDAR