BEGIN:VCALENDAR
VERSION:2.0
PRODID:-//jEvents 2.0 for Joomla//EN
CALSCALE:GREGORIAN
METHOD:PUBLISH
BEGIN:VTIMEZONE
TZID:Europe/Berlin
BEGIN:STANDARD
DTSTART:20250321T080000
RDATE:20250330T030000
TZOFFSETFROM:+0200
TZOFFSETTO:+0100
TZNAME:Europe/Berlin CET
END:STANDARD
BEGIN:STANDARD
DTSTART:20251026T020000
RDATE:20260329T030000
TZOFFSETFROM:+0200
TZOFFSETTO:+0100
TZNAME:Europe/Berlin CET
END:STANDARD
BEGIN:STANDARD
DTSTART:20261025T020000
RDATE:20270328T030000
TZOFFSETFROM:+0200
TZOFFSETTO:+0100
TZNAME:Europe/Berlin CET
END:STANDARD
BEGIN:STANDARD
DTSTART:20271031T020000
RDATE:20280326T030000
TZOFFSETFROM:+0200
TZOFFSETTO:+0100
TZNAME:Europe/Berlin CET
END:STANDARD
BEGIN:DAYLIGHT
DTSTART:20250330T030000
RDATE:20251026T020000
TZOFFSETFROM:+0100
TZOFFSETTO:+0200
TZNAME:Europe/Berlin CEST
END:DAYLIGHT
BEGIN:DAYLIGHT
DTSTART:20260329T030000
RDATE:20261025T020000
TZOFFSETFROM:+0100
TZOFFSETTO:+0200
TZNAME:Europe/Berlin CEST
END:DAYLIGHT
BEGIN:DAYLIGHT
DTSTART:20270328T030000
RDATE:20271031T020000
TZOFFSETFROM:+0100
TZOFFSETTO:+0200
TZNAME:Europe/Berlin CEST
END:DAYLIGHT
END:VTIMEZONE
BEGIN:VEVENT
UID:a1ea663dccc6b5be3544ad4bda289028
CATEGORIES:Berg
CREATED:20260315T163515
SUMMARY:Bergwanderung auf die Hochalm, 1.428m
DESCRIPTION:Die Hochalm liegt am Ostende des Sylvensteinstausees und bietet einen schön
 en Ausblick ins Isartal und auf die Nordwand des Demeljochs.\nVom Parkplatz
  am Ende des Stausees wandern wir erst über den Gerstenrieder Graben hinauf
  bis zur Höllei-Alm. Nach einer kurzen Pause queren wir auf der Südwestflan
 ke das Joch der Mitteralm, wo es doch etwas steiler wird. Weiter führt uns 
 der Pfad über den Waldrücken zu den freien Wiesenflächen mit den verfallene
 n Mauern der früheren Alm. Am Gipfelkreuz angelangt, genießen wir das herrl
 iche Panorama und stärken uns für den Abstieg, der auf der gleichen Route v
 erläuft.\nTreffpunkt: um 8:00 Uhr am Parkplatz Paradiesweg in Wolfratshause
 n\nAusgangspunkt der Tour: Parkplatz Ostende Sylvensteinstausee\nGehzeit/Hö
 henmeter/Strecke: ca. 4,0 Std/650 Hm/6,0 km\nAnforderung: leichte Bergwande
 rung (T2, blau), Trittsicherheit erforderlich!\nAusrüstung: Feste Bergschuh
 e, Wanderstöcke, je nach Wetter warme Kleidung und Regenjacke\nEinkehrmögli
 chkeit: unterwegs keine, bitte ausreichend Getränke und Brotzeit mitnehmen,
  Einkehr hinterher\nTourenleitung: Traudl Tel. 0171-454 0198\nMail: Diese E
 -Mail-Adresse ist vor Spambots geschützt! Zur Anzeige muss JavaScript einge
 schaltet sein.\nAnmeldung erforderlich, bitte per Mail bis zum 20.03.2026 a
 n Traudl\n
X-ALT-DESC;FMTTYPE=text/html:<p>Die Hochalm liegt am Ostende des Sylvensteinstausees und bietet einen sc
 hönen Ausblick ins Isartal und auf die Nordwand des Demeljochs.<br />Vom Pa
 rkplatz am Ende des Stausees wandern wir erst über den Gerstenrieder Graben
  hinauf bis zur Höllei-Alm. Nach einer kurzen Pause queren wir auf der Südw
 estflanke das Joch der Mitteralm, wo es doch etwas steiler wird. Weiter füh
 rt uns der Pfad über den Waldrücken zu den freien Wiesenflächen mit den ver
 fallenen Mauern der früheren Alm. Am Gipfelkreuz angelangt, genießen wir da
 s herrliche Panorama und stärken uns für den Abstieg, der auf der gleichen 
 Route verläuft.</p><p>Treffpunkt: um 8:00 Uhr am Parkplatz Paradiesweg in W
 olfratshausen<br />Ausgangspunkt der Tour: Parkplatz Ostende Sylvensteinsta
 usee</p><p>Gehzeit/Höhenmeter/Strecke: ca. 4,0 Std/650 Hm/6,0 km</p><p><str
 ong>Anforderung:</strong> leichte Bergwanderung (T2, blau), Trittsicherheit
  erforderlich!<br /><strong>Ausrüstung:</strong> Feste Bergschuhe, Wanderst
 öcke, je nach Wetter warme Kleidung und Regenjacke</p><p>Einkehrmöglichkeit
 : unterwegs keine, bitte ausreichend Getränke und Brotzeit mitnehmen, Einke
 hr hinterher</p><p>Tourenleitung: Traudl Tel. 0171-454 0198<br />Mail: <joo
 mla-hidden-mail  is-link="1" is-email="1" first="dHJhdWRsLmI=" last="bmF0dX
 JmcmV1bmRlLXdvbGZyYXRzaGF1c2VuLmRl" text="dHJhdWRsLmJAbmF0dXJmcmV1bmRlLXdvb
 GZyYXRzaGF1c2VuLmRl" base="" >Diese E-Mail-Adresse ist vor Spambots geschüt
 zt! Zur Anzeige muss JavaScript eingeschaltet sein.</joomla-hidden-mail></p
 ><p><strong>Anmeldung erforderlich, bitte per Mail bis zum 20.03.2026 an Tr
 audl</strong></p>
DTSTAMP:20260422T115316
DTSTART;TZID=Europe/Berlin:20260322T080000
SEQUENCE:0
TRANSP:OPAQUE
END:VEVENT
END:VCALENDAR