BEGIN:VCALENDAR
VERSION:2.0
PRODID:-//jEvents 2.0 for Joomla//EN
CALSCALE:GREGORIAN
METHOD:PUBLISH
BEGIN:VTIMEZONE
TZID:Europe/Berlin
BEGIN:STANDARD
DTSTART:20251026T020000
RDATE:20260329T030000
TZOFFSETFROM:+0200
TZOFFSETTO:+0100
TZNAME:Europe/Berlin CET
END:STANDARD
BEGIN:STANDARD
DTSTART:20261025T020000
RDATE:20270328T030000
TZOFFSETFROM:+0200
TZOFFSETTO:+0100
TZNAME:Europe/Berlin CET
END:STANDARD
BEGIN:STANDARD
DTSTART:20271031T020000
RDATE:20280326T030000
TZOFFSETFROM:+0200
TZOFFSETTO:+0100
TZNAME:Europe/Berlin CET
END:STANDARD
BEGIN:DAYLIGHT
DTSTART:20250417T080000
RDATE:20251026T020000
TZOFFSETFROM:+0100
TZOFFSETTO:+0200
TZNAME:Europe/Berlin CEST
END:DAYLIGHT
BEGIN:DAYLIGHT
DTSTART:20260329T030000
RDATE:20261025T020000
TZOFFSETFROM:+0100
TZOFFSETTO:+0200
TZNAME:Europe/Berlin CEST
END:DAYLIGHT
BEGIN:DAYLIGHT
DTSTART:20270328T030000
RDATE:20271031T020000
TZOFFSETFROM:+0100
TZOFFSETTO:+0200
TZNAME:Europe/Berlin CEST
END:DAYLIGHT
END:VTIMEZONE
BEGIN:VEVENT
UID:a5eb424f65c7b9aa0b501cc8c645692c
CATEGORIES:Berg
CREATED:20260315T165721
SUMMARY:Bergwanderung auf den Sonnenspitz, 1.269 m
DESCRIPTION:Achtung: Änderung nun am Samstag, den 18.04.2026\nDer Hausberg von Kochel i
 st nicht der Jochberg, sondern der Sonnenspitz. Eine schöne Eingehtour für 
 die Sommersaison.\nVom Parkplatz an der Kesselbergstraße beginnen wir unser
 e Tour zunächst auf einer Forststraße. Später steigen wir über zahllose ste
 ile und ausgesetzte Serpentinen hinauf. Hier ist Trittsicherheit angesagt. 
 Oben angekommen führt uns ein Gratweg auf die Sonnenspitze. Nach der Gipfel
 rast geht es auf dem gleichen Weg wieder hinab zum Ausgangspunkt.\nTreffpun
 kt: Um 8:00 Uhr am Parkplatz Paradiesweg in Wolfratshausen\nAusgangspunkt d
 er Tour: Parkplatz an der Kesselbergstraße\nGehzeit/Höhenmeter/Strecke: ca.
  4,5 Std, 580 Hm\nAnforderung: Mittelschwere Bergwanderung (T3, rot), Tritt
 sicherheit erforderlich!\nAusrüstung: Feste Bergschuhe, Wanderstöcke, je na
 ch Wetter warme Kleidung und Regenjacke\nEinkehrmöglichkeit: unterwegs kein
 e, bitte ausreichend Getränke und Brotzeit mitnehmen, Einkehr hinterher\nTo
 urenleitung: Traudl Tel. 0171-454 0198\nMail: Diese E-Mail-Adresse ist vor 
 Spambots geschützt! Zur Anzeige muss JavaScript eingeschaltet sein.\nAnmeld
 ung erforderlich, bitte per Mail bis zum 17.04.2026 an Traudl\n
X-ALT-DESC;FMTTYPE=text/html:<p><span style="color: #ff0000;">Achtung: Änderung nun am Samstag, den 18.0
 4.2026</span></p><p>Der Hausberg von Kochel ist nicht der Jochberg, sondern
  der Sonnenspitz. Eine schöne Eingehtour für die Sommersaison.<br />Vom Par
 kplatz an der Kesselbergstraße beginnen wir unsere Tour zunächst auf einer 
 Forststraße. Später steigen wir über zahllose steile und ausgesetzte Serpen
 tinen hinauf. Hier ist Trittsicherheit angesagt. Oben angekommen führt uns 
 ein Gratweg auf die Sonnenspitze. Nach der Gipfelrast geht es auf dem gleic
 hen Weg wieder hinab zum Ausgangspunkt.</p><p>Treffpunkt: Um 8:00 Uhr am Pa
 rkplatz Paradiesweg in Wolfratshausen<br />Ausgangspunkt der Tour: Parkplat
 z an der Kesselbergstraße</p><p>Gehzeit/Höhenmeter/Strecke: ca. 4,5 Std, 58
 0 Hm</p><p><strong>Anforderung:</strong> Mittelschwere Bergwanderung (T3, r
 ot), Trittsicherheit erforderlich!<br /><strong>Ausrüstung:</strong> Feste 
 Bergschuhe, Wanderstöcke, je nach Wetter warme Kleidung und Regenjacke</p><
 p>Einkehrmöglichkeit: unterwegs keine, bitte ausreichend Getränke und Brotz
 eit mitnehmen, Einkehr hinterher</p><p>Tourenleitung: Traudl Tel. 0171-454 
 0198<br />Mail: <joomla-hidden-mail  is-link="1" is-email="1" first="dHJhdW
 RsLmI=" last="bmF0dXJmcmV1bmRlLXdvbGZyYXRzaGF1c2VuLmRl" text="dHJhdWRsLmJAb
 mF0dXJmcmV1bmRlLXdvbGZyYXRzaGF1c2VuLmRl" base="" >Diese E-Mail-Adresse ist 
 vor Spambots geschützt! Zur Anzeige muss JavaScript eingeschaltet sein.</jo
 omla-hidden-mail></p><p><strong>Anmeldung erforderlich, bitte per Mail bis 
 zum 17.04.2026 an Traudl</strong></p>
DTSTAMP:20260421T113501
DTSTART;TZID=Europe/Berlin:20260418T080000
SEQUENCE:0
TRANSP:OPAQUE
END:VEVENT
END:VCALENDAR