BEGIN:VCALENDAR
VERSION:2.0
PRODID:-//jEvents 2.0 for Joomla//EN
CALSCALE:GREGORIAN
METHOD:PUBLISH
BEGIN:VTIMEZONE
TZID:Europe/Berlin
BEGIN:STANDARD
DTSTART:20251026T020000
RDATE:20260329T030000
TZOFFSETFROM:+0200
TZOFFSETTO:+0100
TZNAME:Europe/Berlin CET
END:STANDARD
BEGIN:STANDARD
DTSTART:20261025T020000
RDATE:20270328T030000
TZOFFSETFROM:+0200
TZOFFSETTO:+0100
TZNAME:Europe/Berlin CET
END:STANDARD
BEGIN:STANDARD
DTSTART:20271031T020000
RDATE:20280326T030000
TZOFFSETFROM:+0200
TZOFFSETTO:+0100
TZNAME:Europe/Berlin CET
END:STANDARD
BEGIN:DAYLIGHT
DTSTART:20250530T080000
RDATE:20251026T020000
TZOFFSETFROM:+0100
TZOFFSETTO:+0200
TZNAME:Europe/Berlin CEST
END:DAYLIGHT
BEGIN:DAYLIGHT
DTSTART:20260329T030000
RDATE:20261025T020000
TZOFFSETFROM:+0100
TZOFFSETTO:+0200
TZNAME:Europe/Berlin CEST
END:DAYLIGHT
BEGIN:DAYLIGHT
DTSTART:20270328T030000
RDATE:20271031T020000
TZOFFSETFROM:+0100
TZOFFSETTO:+0200
TZNAME:Europe/Berlin CEST
END:DAYLIGHT
END:VTIMEZONE
BEGIN:VEVENT
UID:75663c7e60221368a9cab001cefe865f
CATEGORIES:Berg
CREATED:20260315T171222
SUMMARY:Bergwanderung auf das Kragenjoch, 1.387 m, Kundl
DESCRIPTION:Das Kragenjoch ist der Aussichtsbalkon zwischen dem Inntal und der Wildschö
 nau mit schönen Ausblicken auf die Kitzbühler Alpen und die Alpbacher Berge
 .\nVom Parkplatz in Kundl wandern wir über die historische Brücke der Wilds
 chönauer Ache auf dem Besinnungsweg in 1,5 Std zum Weiler Bach. Danach über
 queren wir über einen Steig das Schönberger Joch. Dieser Weg ist einseitig 
 ausgesetzt und später ist eine kurze steile Passage mit Geröll zu bewältige
 n. Diese Stelle ist mit einem Seil gesichert und Trittsicherheit ist hier n
 otwendig. Am Ende gelangen wir über eine Buckelwiese zum Kragenjoch auf 1.3
 87 m. Nach der Gipfelrast geht es auf dem Aufstiegsweg wieder talwärts.\nTr
 effpunkt: um 8:00 Uhr am Parkplatz Paradiesweg in Wolfratshausen\nAusgangsp
 unkt der Tour: Wanderparkplatz Kundl, Klammstrasse\nGehzeit/Höhenmeter/Stre
 cke: ca. 6 Std, 916 Hm, 11,1 km\nAnforderung: mittelschwere Bergwanderung (
 T3, rot), enthält Passagen, bei denen Trittsicherheit erforderlich ist!\nAu
 srüstung: Feste Bergschuhe, Wanderstöcke, je nach Wetter warme Kleidung und
  Regenjacke\nEinkehrmöglichkeit: unterwegs keine, bitte ausreichend Getränk
 e und Brotzeit mitnehmen, Einkehr hinterher\nTourenleitung: Traudl Tel. 017
 1-454 0198\nMail: Diese E-Mail-Adresse ist vor Spambots geschützt! Zur Anze
 ige muss JavaScript eingeschaltet sein.\nAnmeldung erforderlich, bitte per 
 Mail bis zum 29.05.2026 an Traudl\n
X-ALT-DESC;FMTTYPE=text/html:<p>Das Kragenjoch ist der Aussichtsbalkon zwischen dem Inntal und der Wilds
 chönau mit schönen Ausblicken auf die Kitzbühler Alpen und die Alpbacher Be
 rge.<br />Vom Parkplatz in Kundl wandern wir über die historische Brücke de
 r Wildschönauer Ache auf dem Besinnungsweg in 1,5 Std zum Weiler Bach. Dana
 ch überqueren wir über einen Steig das Schönberger Joch. Dieser Weg ist ein
 seitig ausgesetzt und später ist eine kurze steile Passage mit Geröll zu be
 wältigen. Diese Stelle ist mit einem Seil gesichert und Trittsicherheit ist
  hier notwendig. Am Ende gelangen wir über eine Buckelwiese zum Kragenjoch 
 auf 1.387 m. Nach der Gipfelrast geht es auf dem Aufstiegsweg wieder talwär
 ts.</p><p>Treffpunkt: um 8:00 Uhr am Parkplatz Paradiesweg in Wolfratshause
 n<br />Ausgangspunkt der Tour: Wanderparkplatz Kundl, Klammstrasse</p><p>Ge
 hzeit/Höhenmeter/Strecke: ca. 6 Std, 916 Hm, 11,1 km</p><p><strong>Anforder
 ung</strong>: mittelschwere Bergwanderung (T3, rot), enthält Passagen, bei 
 denen Trittsicherheit erforderlich ist!<br /><strong>Ausrüstung:</strong> F
 este Bergschuhe, Wanderstöcke, je nach Wetter warme Kleidung und Regenjacke
 </p><p>Einkehrmöglichkeit: unterwegs keine, bitte ausreichend Getränke und 
 Brotzeit mitnehmen, Einkehr hinterher</p><p>Tourenleitung: Traudl Tel. 0171
 -454 0198<br />Mail: <joomla-hidden-mail  is-link="1" is-email="1" first="d
 HJhdWRsLmI=" last="bmF0dXJmcmV1bmRlLXdvbGZyYXRzaGF1c2VuLmRl" text="dHJhdWRs
 LmJAbmF0dXJmcmV1bmRlLXdvbGZyYXRzaGF1c2VuLmRl" base="" >Diese E-Mail-Adresse
  ist vor Spambots geschützt! Zur Anzeige muss JavaScript eingeschaltet sein
 .</joomla-hidden-mail></p><p><strong>Anmeldung erforderlich, bitte per Mail
  bis zum 29.05.2026 an Traudl</strong></p>
DTSTAMP:20260420T143343
DTSTART;TZID=Europe/Berlin:20260531T080000
SEQUENCE:0
TRANSP:OPAQUE
END:VEVENT
END:VCALENDAR