BEGIN:VCALENDAR
VERSION:2.0
PRODID:-//jEvents 2.0 for Joomla//EN
CALSCALE:GREGORIAN
METHOD:PUBLISH
BEGIN:VTIMEZONE
TZID:Europe/Berlin
BEGIN:STANDARD
DTSTART:20251026T020000
RDATE:20260329T030000
TZOFFSETFROM:+0200
TZOFFSETTO:+0100
TZNAME:Europe/Berlin CET
END:STANDARD
BEGIN:STANDARD
DTSTART:20261025T020000
RDATE:20270328T030000
TZOFFSETFROM:+0200
TZOFFSETTO:+0100
TZNAME:Europe/Berlin CET
END:STANDARD
BEGIN:STANDARD
DTSTART:20271031T020000
RDATE:20280326T030000
TZOFFSETFROM:+0200
TZOFFSETTO:+0100
TZNAME:Europe/Berlin CET
END:STANDARD
BEGIN:DAYLIGHT
DTSTART:20250810T070000
RDATE:20251026T020000
TZOFFSETFROM:+0100
TZOFFSETTO:+0200
TZNAME:Europe/Berlin CEST
END:DAYLIGHT
BEGIN:DAYLIGHT
DTSTART:20260329T030000
RDATE:20261025T020000
TZOFFSETFROM:+0100
TZOFFSETTO:+0200
TZNAME:Europe/Berlin CEST
END:DAYLIGHT
BEGIN:DAYLIGHT
DTSTART:20270328T030000
RDATE:20271031T020000
TZOFFSETFROM:+0100
TZOFFSETTO:+0200
TZNAME:Europe/Berlin CEST
END:DAYLIGHT
END:VTIMEZONE
BEGIN:VEVENT
UID:495d902245af7f0332284c95a4b86e6f
CATEGORIES:Berg
CREATED:20260315T172920
SUMMARY:Zweitagestour Zugspitze, 2.962 m – Wettersteingebirge (Tour 2)
DESCRIPTION:Die Zugspitze ist der höchste Berg Deutschlands und wird auf dem einfachste
 n Normalweg bestiegen.\nTag 1 - Dienstag, 11. August 2026\nFahrt nach Parte
 nkirchen zum Skistadion. Durch das Gelände der Skisprung-schanze geht es an
  der Partnach entlang zum Eingang der wildromantischen Partnachklamm. Am En
 de der Klamm über den Ferchenbach zur Bockhütte, hier können wir die erste 
 Pause einlegen. Immer tiefer in das Reintal hinein zur Reintalangerhütte, h
 ier ist die Mittagsrast geplant. Zunächst geht es noch flach weiter, dann a
 m Ende des Talkessels über einen steileren Aufstieg zur Knorrhütte, dort Üb
 ernachtung.\nGehzeit/Höhenmeter/Strecke: ca. 7 Std, 1.300 Hm bergauf, 15 km
 \nTag 2 – Mittwoch, 12. August 2026\nZunächst steil über Geröllhalden über 
 das Weiße Tal zum Zugspitzblatt am Sonnalpin. Hier legen wir eine Pause ein
 . Nun durch Schutthalden am Schneefernerhaus vorbei. Am Schluss am Drahtsei
 l bis zur Stahltreppe zum Gipfelbereich. Ein seilversicherter Steig führt u
 ns zum goldenen Kreuz. Mit der Gletscherbahn und der Zahnradbahn geht es be
 rgab.\nGehzeit/Höhenmeter/Strecke: ca. 4 Std, 900 Hm bergauf, 7 km\nTreffpu
 nkt: Um 7:00 Uhr am Parkplatz Paradiesweg in Wolfratshausen\nAusgangspunkt 
 der Tour: Parkplatz am Skistadion in Garmisch-Partenkirchen\nAnforderung: D
 ie Tour richtet sich an erfahrene Bergwanderer (T3, rot).\nTourenleitung: H
 ugo, Tel. 0175-1617513\nMail: Diese E-Mail-Adresse ist vor Spambots geschüt
 zt! Zur Anzeige muss JavaScript eingeschaltet sein.\nHinweis: Wegen der Übe
 rnachtung ist eine frühzeitige Anmeldung erforderlich.\n
X-ALT-DESC;FMTTYPE=text/html:<p>Die Zugspitze ist der höchste Berg Deutschlands und wird auf dem einfach
 sten Normalweg bestiegen.</p><p><strong>Tag 1 - Dienstag, 11. August 2026</
 strong></p><p>Fahrt nach Partenkirchen zum Skistadion. Durch das Gelände de
 r Skisprung-schanze geht es an der Partnach entlang zum Eingang der wildrom
 antischen Partnachklamm. Am Ende der Klamm über den Ferchenbach zur Bockhüt
 te, hier können wir die erste Pause einlegen. Immer tiefer in das Reintal h
 inein zur Reintalangerhütte, hier ist die Mittagsrast geplant. Zunächst geh
 t es noch flach weiter, dann am Ende des Talkessels über einen steileren Au
 fstieg zur Knorrhütte, dort Übernachtung.</p><p>Gehzeit/Höhenmeter/Strecke:
  ca. 7 Std, 1.300 Hm bergauf, 15 km</p><p><strong>Tag 2 – Mittwoch, 12. Aug
 ust 2026</strong></p><p>Zunächst steil über Geröllhalden über das Weiße Tal
  zum Zugspitzblatt am Sonnalpin. Hier legen wir eine Pause ein. Nun durch S
 chutthalden am Schneefernerhaus vorbei. Am Schluss am Drahtseil bis zur Sta
 hltreppe zum Gipfelbereich. Ein seilversicherter Steig führt uns zum golden
 en Kreuz. Mit der Gletscherbahn und der Zahnradbahn geht es bergab.</p><p>G
 ehzeit/Höhenmeter/Strecke: ca. 4 Std, 900 Hm bergauf, 7 km</p><p>Treffpunkt
 : Um 7:00 Uhr am Parkplatz Paradiesweg in Wolfratshausen<br />Ausgangspunkt
  der Tour: Parkplatz am Skistadion in Garmisch-Partenkirchen</p><p><strong>
 Anforderung:</strong> Die Tour richtet sich an erfahrene Bergwanderer (T3, 
 rot).</p><p>Tourenleitung: Hugo, Tel. 0175-1617513<br />Mail: <joomla-hidde
 n-mail  is-link="1" is-email="1" first="aHVnby5n" last="bmF0dXJmcmV1bmRlLXd
 vbGZyYXRzaGF1c2VuLmRl" text="aHVnby5nQG5hdHVyZnJldW5kZS13b2xmcmF0c2hhdXNlbi
 5kZQ==" base="" >Diese E-Mail-Adresse ist vor Spambots geschützt! Zur Anzei
 ge muss JavaScript eingeschaltet sein.</joomla-hidden-mail></p><p><strong>H
 inweis: Wegen der Übernachtung ist eine frühzeitige Anmeldung erforderlich.
 </strong></p>
DTSTAMP:20260421T113117
DTSTART;TZID=Europe/Berlin:20260811T070000
DTEND;TZID=Europe/Berlin;VALUE=DATE:20260813
SEQUENCE:0
TRANSP:OPAQUE
END:VEVENT
END:VCALENDAR