BEGIN:VCALENDAR
VERSION:2.0
PRODID:-//jEvents 2.0 for Joomla//EN
CALSCALE:GREGORIAN
METHOD:PUBLISH
BEGIN:VTIMEZONE
TZID:Europe/Berlin
BEGIN:STANDARD
DTSTART:20251026T020000
RDATE:20260329T030000
TZOFFSETFROM:+0200
TZOFFSETTO:+0100
TZNAME:Europe/Berlin CET
END:STANDARD
BEGIN:STANDARD
DTSTART:20261025T020000
RDATE:20270328T030000
TZOFFSETFROM:+0200
TZOFFSETTO:+0100
TZNAME:Europe/Berlin CET
END:STANDARD
BEGIN:STANDARD
DTSTART:20271031T020000
RDATE:20280326T030000
TZOFFSETFROM:+0200
TZOFFSETTO:+0100
TZNAME:Europe/Berlin CET
END:STANDARD
BEGIN:DAYLIGHT
DTSTART:20250904T070000
RDATE:20251026T020000
TZOFFSETFROM:+0100
TZOFFSETTO:+0200
TZNAME:Europe/Berlin CEST
END:DAYLIGHT
BEGIN:DAYLIGHT
DTSTART:20260329T030000
RDATE:20261025T020000
TZOFFSETFROM:+0100
TZOFFSETTO:+0200
TZNAME:Europe/Berlin CEST
END:DAYLIGHT
BEGIN:DAYLIGHT
DTSTART:20270328T030000
RDATE:20271031T020000
TZOFFSETFROM:+0100
TZOFFSETTO:+0200
TZNAME:Europe/Berlin CEST
END:DAYLIGHT
END:VTIMEZONE
BEGIN:VEVENT
UID:b8558d4c09aba42045056ad84bed1f85
CATEGORIES:Berg
CREATED:20260317T164959
SUMMARY:Mehrtagestour ins Tannheimer Tal
DESCRIPTION:Nach der ca. zweistündigen Anfahrt planen wir je nach Wetter bereits eine k
 leinere Tour, z.B. auf den Schönkahler, 1.688 m, 680 hm, ca. 5 Stunden, bit
 te Tagesrucksack mitnehmen.\nMögliche Touren für die weiteren Tage sind z.B
 .\n- Haldensee und Adlerhorst, 300 Hm, 3 Std\n- Nesselwängler Scharte, 2.00
 7 m, 900 Hm, 5 Std\n- Aggenstein, 1.987 m, 850 Hm, 5 Std\n- Brentenjoch, 2.
 000 m, 850 Hm, 5 Std\n- Rote Flüh - Klettersteige, 2.111 m, mit der Bahn 40
 0 Hm Aufstieg, 1.050 Hm Abstieg, 4 Std\nDie Tourenziele werden vor Ort nach
  Wetter, Lust und Laune mit der Gruppe abgestimmt.\nTreffpunkt: Um 7:00 Uhr
  am Parkplatz Paradiesweg in Wolfratshausen und um 7:20 Uhr am Autobahnpark
 platz an der A95 bei Sindelsdorf\nUnterkunft: Hotel Alpenrose in Zöblen, Ta
 nnheimer Tal\nAnforderung: einfache und mittelschwere Bergwanderungen, even
 tuell auch ein Klettersteig\nAusrüstung: Wanderausrüstung, eventuell Klette
 rsteigausrüstung, Badesachen\nKosten: Die Übernachtung mit Frühstück kostet
  265 € pro Person für vier Nächte im Doppelzimmer mit Balkon inklusive Kurt
 axe und Gästekarte.\nTeilnehmeranzahl: Das Hotel ist bereits für 12 Tln. ge
 bucht, bei reger Nachfrage werden wir eine Nachbuchung prüfen.\nTourenleitu
 ng: Alfred, Tel. 01573-8086089 und Brigitte, Tel. 0157-71950692\nMail: Dies
 e E-Mail-Adresse ist vor Spambots geschützt! Zur Anzeige muss JavaScript ei
 ngeschaltet sein.\nVerbindliche Anmeldung und Zahlung erforderlich bis zum 
 31.07.2026 an Alfred.\nBei Rücktritt nach dem 31.07.2026 ist eine Kosteners
 tattung nur möglich, wenn eine Ersatzperson die Buchung übernimmt.\n
X-ALT-DESC;FMTTYPE=text/html:<p>Nach der ca. zweistündigen Anfahrt planen wir je nach Wetter bereits ein
 e kleinere Tour, z.B. auf den Schönkahler, 1.688 m, 680 hm, ca. 5 Stunden, 
 bitte Tagesrucksack mitnehmen.</p><p>Mögliche Touren für die weiteren Tage 
 sind z.B.</p><p>- Haldensee und Adlerhorst, 300 Hm, 3 Std</p><p>- Nesselwän
 gler Scharte, 2.007 m, 900 Hm, 5 Std</p><p>- Aggenstein, 1.987 m, 850 Hm, 5
  Std</p><p>- Brentenjoch, 2.000 m, 850 Hm, 5 Std</p><p>- Rote Flüh - Klette
 rsteige, 2.111 m, mit der Bahn 400 Hm Aufstieg, 1.050 Hm Abstieg, 4 Std</p>
 <p>Die Tourenziele werden vor Ort nach Wetter, Lust und Laune mit der Grupp
 e abgestimmt.</p><p>Treffpunkt: Um 7:00 Uhr am Parkplatz Paradiesweg in Wol
 fratshausen und um 7:20 Uhr am Autobahnparkplatz an der A95 bei Sindelsdorf
 </p><p>Unterkunft: Hotel Alpenrose in Zöblen, Tannheimer Tal</p><p><strong>
 Anforderung:</strong> einfache und mittelschwere Bergwanderungen, eventuell
  auch ein Klettersteig</p><p><strong>Ausrüstung:</strong> Wanderausrüstung,
  eventuell Klettersteigausrüstung, Badesachen</p><p>Kosten: Die Übernachtun
 g mit Frühstück kostet 265 € pro Person für vier Nächte im Doppelzimmer mit
  Balkon inklusive Kurtaxe und Gästekarte.</p><p>Teilnehmeranzahl: Das Hotel
  ist bereits für 12 Tln. gebucht, bei reger Nachfrage werden wir eine Nachb
 uchung prüfen.</p><p>Tourenleitung: Alfred, Tel. 01573-8086089 und Brigitte
 , Tel. 0157-71950692<br />Mail: <joomla-hidden-mail  is-link="1" is-email="
 1" first="YWxmcmVkLnM=" last="bmF0dXJmcmV1bmRlLXdvbGZyYXRzaGF1c2VuLmRl" tex
 t="YWxmcmVkLnNAbmF0dXJmcmV1bmRlLXdvbGZyYXRzaGF1c2VuLmRl" base="" >Diese E-M
 ail-Adresse ist vor Spambots geschützt! Zur Anzeige muss JavaScript eingesc
 haltet sein.</joomla-hidden-mail></p><p><strong>Verbindliche Anmeldung und 
 Zahlung erforderlich bis zum 31.07.2026 an Alfred.</strong></p><p>Bei Rückt
 ritt nach dem 31.07.2026 ist eine Kostenerstattung nur möglich, wenn eine E
 rsatzperson die Buchung übernimmt.</p>
DTSTAMP:20260420T103943
DTSTART;TZID=Europe/Berlin:20260905T070000
DTEND;TZID=Europe/Berlin;VALUE=DATE:20260910
SEQUENCE:0
TRANSP:OPAQUE
END:VEVENT
END:VCALENDAR