BEGIN:VCALENDAR
VERSION:2.0
PRODID:-//jEvents 2.0 for Joomla//EN
CALSCALE:GREGORIAN
METHOD:PUBLISH
BEGIN:VTIMEZONE
TZID:Europe/Berlin
BEGIN:STANDARD
DTSTART:20251026T020000
RDATE:20260329T030000
TZOFFSETFROM:+0200
TZOFFSETTO:+0100
TZNAME:Europe/Berlin CET
END:STANDARD
BEGIN:STANDARD
DTSTART:20261025T020000
RDATE:20270328T030000
TZOFFSETFROM:+0200
TZOFFSETTO:+0100
TZNAME:Europe/Berlin CET
END:STANDARD
BEGIN:STANDARD
DTSTART:20271031T020000
RDATE:20280326T030000
TZOFFSETFROM:+0200
TZOFFSETTO:+0100
TZNAME:Europe/Berlin CET
END:STANDARD
BEGIN:DAYLIGHT
DTSTART:20251017T080000
RDATE:20251026T020000
TZOFFSETFROM:+0100
TZOFFSETTO:+0200
TZNAME:Europe/Berlin CEST
END:DAYLIGHT
BEGIN:DAYLIGHT
DTSTART:20260329T030000
RDATE:20261025T020000
TZOFFSETFROM:+0100
TZOFFSETTO:+0200
TZNAME:Europe/Berlin CEST
END:DAYLIGHT
BEGIN:DAYLIGHT
DTSTART:20270328T030000
RDATE:20271031T020000
TZOFFSETFROM:+0100
TZOFFSETTO:+0200
TZNAME:Europe/Berlin CEST
END:DAYLIGHT
END:VTIMEZONE
BEGIN:VEVENT
UID:09492e1cb23308219594c20edbfcd026
CATEGORIES:Berg
CREATED:20260318T162332
SUMMARY:Bergwanderung durch die Partnachklamm über den Eckbauer, 1.237 m, nach Wamberg
DESCRIPTION:Von der Skischanze aus geht es in die Wildenau zum Eingang der Klamm. Nach 
 der spektakulären Durchschreitung der Klamm folgen wir dem Bachlauf bis zum
  Abzweig nach Graseck. Ein gut angelegter Weg führt uns nun durch den Wald 
 nach Vordergraseck. Am Forsthaus Graseck geht es rechts zu einer Forststraß
 e, von der nach ca. 1 km links der Weg zum Eckbauer, 1.237 m, abzweigt. Vom
  Gipfel bietet sich ein großartiges Panorama auf das Wettersteingebirge. Na
 ch einer Gipfelpause nehmen wir den Abstieg nach Wamberg - St. Anna, dem hö
 chstgelegenen Kirchdorf Deutschlands, das komplett unter Denkmalschutz steh
 t. Von Wamberg geht es dann vorbei an der Kirche durch den Wald Richtung Ka
 inzenbad nach Garmisch zurück zum Parkplatz.\nTreffpunkt: um 8:00 Uhr am Pa
 rkplatz Paradiesweg in Wolfratshausen\nAusgangspunkt der Tour: Parkplatz am
  Skistadion in Garmisch-Partenkirchen\nGehzeit/Höhenmeter/Strecke: Aufstieg
  zum Eckbauer ca. 2,5 Std, Abstieg über Wamberg ca. 1,5 Std/500 Hm/13 km\nA
 nforderung: Leichte Bergwanderung (T2, blau), enthält Passagen bei denen Tr
 ittsicherheit erforderlich ist\nAusrüstung: Feste Bergschuhe, Wanderstöcke,
  je nach Wetter warme Kleidung und unbedingt eine Regenjacke\nEinkehrmöglic
 hkeiten: Berggasthöfe in Graseck, am Eckbauer und in Wamberg\nTourenleitung
 : Christine Tel. 0162-2565656\nAnmeldung erforderlich, bitte per Telefon/Wh
 atsApp bis zum 16.10.2026 an Christine\n
X-ALT-DESC;FMTTYPE=text/html:<p>Von der Skischanze aus geht es in die Wildenau zum Eingang der Klamm. Na
 ch der spektakulären Durchschreitung der Klamm folgen wir dem Bachlauf bis 
 zum Abzweig nach Graseck. Ein gut angelegter Weg führt uns nun durch den Wa
 ld nach Vordergraseck. Am Forsthaus Graseck geht es rechts zu einer Forstst
 raße, von der nach ca. 1 km links der Weg zum Eckbauer, 1.237 m, abzweigt. 
 Vom Gipfel bietet sich ein großartiges Panorama auf das Wettersteingebirge.
  Nach einer Gipfelpause nehmen wir den Abstieg nach Wamberg - St. Anna, dem
  höchstgelegenen Kirchdorf Deutschlands, das komplett unter Denkmalschutz s
 teht. Von Wamberg geht es dann vorbei an der Kirche durch den Wald Richtung
  Kainzenbad nach Garmisch zurück zum Parkplatz.</p><p>Treffpunkt: um 8:00 U
 hr am Parkplatz Paradiesweg in Wolfratshausen</p><p>Ausgangspunkt der Tour:
  Parkplatz am Skistadion in Garmisch-Partenkirchen</p><p>Gehzeit/Höhenmeter
 /Strecke: Aufstieg zum Eckbauer ca. 2,5 Std, Abstieg über Wamberg ca. 1,5 S
 td/500 Hm/13 km</p><p><strong>Anforderung:</strong> Leichte Bergwanderung (
 T2, blau), enthält Passagen bei denen Trittsicherheit erforderlich ist</p><
 p><strong>Ausrüstung:</strong> Feste Bergschuhe, Wanderstöcke, je nach Wett
 er warme Kleidung und unbedingt eine Regenjacke</p><p>Einkehrmöglichkeiten:
  Berggasthöfe in Graseck, am Eckbauer und in Wamberg</p><p>Tourenleitung: C
 hristine Tel. 0162-2565656<br /><strong>Anmeldung erforderlich, bitte per T
 elefon/WhatsApp bis zum 16.10.2026 an Christine</strong></p>
DTSTAMP:20260420T090143
DTSTART;TZID=Europe/Berlin:20261018T080000
SEQUENCE:0
TRANSP:OPAQUE
END:VEVENT
END:VCALENDAR