BEGIN:VCALENDAR
VERSION:2.0
PRODID:-//jEvents 2.0 for Joomla//EN
CALSCALE:GREGORIAN
METHOD:PUBLISH
BEGIN:VTIMEZONE
TZID:Europe/Berlin
BEGIN:STANDARD
DTSTART:20240327T190000
RDATE:20240331T030000
TZOFFSETFROM:+0200
TZOFFSETTO:+0100
TZNAME:Europe/Berlin CET
END:STANDARD
BEGIN:STANDARD
DTSTART:20241027T020000
RDATE:20250330T030000
TZOFFSETFROM:+0200
TZOFFSETTO:+0100
TZNAME:Europe/Berlin CET
END:STANDARD
BEGIN:STANDARD
DTSTART:20251026T020000
RDATE:20260329T030000
TZOFFSETFROM:+0200
TZOFFSETTO:+0100
TZNAME:Europe/Berlin CET
END:STANDARD
BEGIN:STANDARD
DTSTART:20261025T020000
RDATE:20270328T030000
TZOFFSETFROM:+0200
TZOFFSETTO:+0100
TZNAME:Europe/Berlin CET
END:STANDARD
BEGIN:STANDARD
DTSTART:20271031T020000
RDATE:20280326T030000
TZOFFSETFROM:+0200
TZOFFSETTO:+0100
TZNAME:Europe/Berlin CET
END:STANDARD
BEGIN:DAYLIGHT
DTSTART:20240331T030000
RDATE:20241027T020000
TZOFFSETFROM:+0100
TZOFFSETTO:+0200
TZNAME:Europe/Berlin CEST
END:DAYLIGHT
BEGIN:DAYLIGHT
DTSTART:20250330T030000
RDATE:20251026T020000
TZOFFSETFROM:+0100
TZOFFSETTO:+0200
TZNAME:Europe/Berlin CEST
END:DAYLIGHT
BEGIN:DAYLIGHT
DTSTART:20260329T030000
RDATE:20261025T020000
TZOFFSETFROM:+0100
TZOFFSETTO:+0200
TZNAME:Europe/Berlin CEST
END:DAYLIGHT
BEGIN:DAYLIGHT
DTSTART:20270328T030000
RDATE:20271031T020000
TZOFFSETFROM:+0100
TZOFFSETTO:+0200
TZNAME:Europe/Berlin CEST
END:DAYLIGHT
END:VTIMEZONE
BEGIN:VEVENT
UID:c42dc01b8de71c8d09c6cc1bccfd545b
CATEGORIES:Allgemein
CREATED:20250215T104442
SUMMARY:Mitgliederversammlung 2025
DESCRIPTION:<p>Die Vorstandschaft lädt alle Mitglieder und Gäste recht herzlich ein zur
 </p><p style="text-align: center;"><strong>Mitgliederversammlung der<br />N
 aturFreunde Wolfratshausen e.V.</strong></p><p style="text-align: center;">
 am Freitag, den 28.03.2025 um 19 Uhr<br />im Gasthaus Löwenbräu in Wolfrats
 hausen.</p><p><strong>Tagesordnung:</strong></p><p>01. Begrüßung der Mitgli
 eder<br />02. Gedenken an die verstorbenen Mitglieder<br />03. Berichte der
  Fachgruppen<br />04. Bericht des 1. Vorsitzenden<br />05. Bericht der Kass
 enwartin<br />06. Bericht der Revisoren<br />07. Entlastung der Vorstandsch
 aft<br />08. Grußworte kommunaler Mandatsträger<br />09. Ordentliche Wahl d
 es Ortsgruppenvorstands gemäß unserer Satzung (1. und 2. Vorstand, Schriftf
 ührer/in, Kassierer/in)<br />10. Ordentliche Wahl der Mitglieder des Ortsgr
 uppenausschusses gemäß unserer Satzung, denen besondere Aufgaben zugewiesen
  sind<br />11. Bestätigung der Fachgruppenleiter<br />12. Wahl der Kontroll
 kommission<br />13. Beschlussfassung zur Beitragsanpassung 2026 und 2028<br
  />14. Verabschiedung ausscheidender Vorstands- und Ausschussmitglieder<br 
 />15. Ehrung langjähriger Mitglieder<br />16. Rückblick und Vorschau auf da
 s Programm 2025 sowie Wünsche und Anträge<br />Zu 09. und 10.: Wahlleitung 
 und Kontakt für Kandidaten: Otto Bauhofer.</p><p>Alle Mitglieder, welche ei
 ne Mailadresse hinterlegt haben, erhalten noch eine Einladung per Mail nebs
 t Tagesordnung.</p>
DTSTAMP:20260421T172843
DTSTART;TZID=Europe/Berlin:20250328T190000
DTEND;TZID=Europe/Berlin:20250328T213000
SEQUENCE:0
TRANSP:OPAQUE
END:VEVENT
END:VCALENDAR