BEGIN:VCALENDAR
VERSION:2.0
PRODID:-//jEvents 2.0 for Joomla//EN
CALSCALE:GREGORIAN
METHOD:PUBLISH
BEGIN:VTIMEZONE
TZID:Europe/Berlin
BEGIN:STANDARD
DTSTART:20241027T020000
RDATE:20250330T030000
TZOFFSETFROM:+0200
TZOFFSETTO:+0100
TZNAME:Europe/Berlin CET
END:STANDARD
BEGIN:STANDARD
DTSTART:20251026T020000
RDATE:20260329T030000
TZOFFSETFROM:+0200
TZOFFSETTO:+0100
TZNAME:Europe/Berlin CET
END:STANDARD
BEGIN:STANDARD
DTSTART:20261025T020000
RDATE:20270328T030000
TZOFFSETFROM:+0200
TZOFFSETTO:+0100
TZNAME:Europe/Berlin CET
END:STANDARD
BEGIN:STANDARD
DTSTART:20271031T020000
RDATE:20280326T030000
TZOFFSETFROM:+0200
TZOFFSETTO:+0100
TZNAME:Europe/Berlin CET
END:STANDARD
BEGIN:DAYLIGHT
DTSTART:20240517T080000
RDATE:20241027T020000
TZOFFSETFROM:+0100
TZOFFSETTO:+0200
TZNAME:Europe/Berlin CEST
END:DAYLIGHT
BEGIN:DAYLIGHT
DTSTART:20250330T030000
RDATE:20251026T020000
TZOFFSETFROM:+0100
TZOFFSETTO:+0200
TZNAME:Europe/Berlin CEST
END:DAYLIGHT
BEGIN:DAYLIGHT
DTSTART:20260329T030000
RDATE:20261025T020000
TZOFFSETFROM:+0100
TZOFFSETTO:+0200
TZNAME:Europe/Berlin CEST
END:DAYLIGHT
BEGIN:DAYLIGHT
DTSTART:20270328T030000
RDATE:20271031T020000
TZOFFSETFROM:+0100
TZOFFSETTO:+0200
TZNAME:Europe/Berlin CEST
END:DAYLIGHT
END:VTIMEZONE
BEGIN:VEVENT
UID:d352b55638561d0ce1c226ebb4a70096
CATEGORIES:Berg
CREATED:20250310T175739
SUMMARY:Bergwanderung auf den Seebergkopf, 1.538 m –  Mangfallgebirge
DESCRIPTION:<p>Der Seebergkopf gehört zu den weniger bekannten Gipfeln in der Gegend um
  Bayrischzell. Wir wandern vom Parkplatz an der B307 über Serpentinen in ca
 . 1,5 Std. bis zur Neuhütte auf 1.235 m. Weiter führt uns der Steig über di
 e Seeberg-Alm in ca. 1,5 Std. auf den Gipfel. Abstieg auf dem gleichen Weg 
 wie beim Aufstieg.</p><p>Einkehr: geplant in Bayrischzell, bitte Getränke u
 nd Brotzeit mitnehmen</p><p>Gehzeit/Höhenmeter: ca. 5 Std. bei 750 Hm</p><p
 ><strong>Anforderung/Hinweise: mittelschwere Wanderung, Kondition und </str
 ong><strong>Trittsicherheit erforderlich. Anmeldung erbeten.</strong></p><p
 >Tourenleitung: Traudl, Tel: 0171-4540198 <br />Mail: <joomla-hidden-mail  
 is-link="1" is-email="1" first="dHJhdWRsLmI=" last="bmF0dXJmcmV1bmRlLXdvbGZ
 yYXRzaGF1c2VuLmRl" text="dHJhdWRsLmJAbmF0dXJmcmV1bmRlLXdvbGZyYXRzaGF1c2VuLm
 Rl" base="" >Diese E-Mail-Adresse ist vor Spambots geschützt! Zur Anzeige m
 uss JavaScript eingeschaltet sein.</joomla-hidden-mail></p>
DTSTAMP:20260421T234345
DTSTART;TZID=Europe/Berlin:20250518T080000
SEQUENCE:0
TRANSP:OPAQUE
END:VEVENT
END:VCALENDAR