BEGIN:VCALENDAR
VERSION:2.0
PRODID:-//jEvents 2.0 for Joomla//EN
CALSCALE:GREGORIAN
METHOD:PUBLISH
BEGIN:VTIMEZONE
TZID:Europe/Berlin
BEGIN:STANDARD
DTSTART:20241027T020000
RDATE:20250330T030000
TZOFFSETFROM:+0200
TZOFFSETTO:+0100
TZNAME:Europe/Berlin CET
END:STANDARD
BEGIN:STANDARD
DTSTART:20251026T020000
RDATE:20260329T030000
TZOFFSETFROM:+0200
TZOFFSETTO:+0100
TZNAME:Europe/Berlin CET
END:STANDARD
BEGIN:STANDARD
DTSTART:20261025T020000
RDATE:20270328T030000
TZOFFSETFROM:+0200
TZOFFSETTO:+0100
TZNAME:Europe/Berlin CET
END:STANDARD
BEGIN:STANDARD
DTSTART:20271031T020000
RDATE:20280326T030000
TZOFFSETFROM:+0200
TZOFFSETTO:+0100
TZNAME:Europe/Berlin CET
END:STANDARD
BEGIN:DAYLIGHT
DTSTART:20240530T073000
RDATE:20241027T020000
TZOFFSETFROM:+0100
TZOFFSETTO:+0200
TZNAME:Europe/Berlin CEST
END:DAYLIGHT
BEGIN:DAYLIGHT
DTSTART:20250330T030000
RDATE:20251026T020000
TZOFFSETFROM:+0100
TZOFFSETTO:+0200
TZNAME:Europe/Berlin CEST
END:DAYLIGHT
BEGIN:DAYLIGHT
DTSTART:20260329T030000
RDATE:20261025T020000
TZOFFSETFROM:+0100
TZOFFSETTO:+0200
TZNAME:Europe/Berlin CEST
END:DAYLIGHT
BEGIN:DAYLIGHT
DTSTART:20270328T030000
RDATE:20271031T020000
TZOFFSETFROM:+0100
TZOFFSETTO:+0200
TZNAME:Europe/Berlin CEST
END:DAYLIGHT
END:VTIMEZONE
BEGIN:VEVENT
UID:3ee6b837eee0b63344526a135880924a
CATEGORIES:Berg
CREATED:20250310T180650
SUMMARY:Änderung: Sa.31.05.2025 NATURKUNDLICHE SONDERVERANSTALTUNG --besonderes Schmankerl
DESCRIPTION:Anstelle der geplanten Tour Rohntal / Tortal findet eine Sonderveranstaltun
 g statt:\nThema: Wildblumen- und Wild-/Heilkräuter-Wanderung mit einer sehr
  erfahrenen Kräuterpädagogin, mit Verkostung und/oder Herstellung von eigen
 em Kräutersalz\nUnsere zertifizierte Kräuterpädagogin Silvia ist vielseitig
  ausgebildet und hat ein enorm umfangreiches Wissen über Pflanzen, Kräuter 
 und Ernährung. Sie versteht es bestens, dieses Wissen und ihre Begeisterung
  zu vermitteln.\nWir beginnen am Vormittag mit einer kleinen Bergwanderung 
 (ca. 400 Hm/ max.10 km). Witterungsbedingt entweder ab Unterammergau nähe A
 ltherrenweg oder ab Pessenbach zur Ortereralm, wo wir mit Kleinigkeiten bew
 irtet werden können.\nGegen Mittag treffen wir unsere Kräuterexpertin, die 
 mit uns eine Kräuterwanderung unternimmt (nochmal ca. 2 Stunden, 5 km im üb
 erwiegend ebenem Gelände).  Sie zeigt uns Wildblumen und wilde Heilkräuter 
 und erklärt deren Nutzen und Wirkungen und vieles Interessantes mehr. Gerne
  geht sie auf unsere Fragen ein.\nZum Abschluss verkosten wir selbstgebacke
 ne Kräutersemmeln und Kräuterfrischkäse mit Kräutern aus dieser Region.\nIc
 h freue mich auf eure rege Teilnahme und euer Interesse an dieser besondere
 n Veranstaltung. Es entstehen keine weiteren Kosten, außer unsere üblichen 
 Parkgebühren und Fahrtkosten.\nAbfahrt 7.30 Uhr am Parkplatz Paradiesweg Wo
 lfratshausen\nEinkehr: Ist nicht sicher. Bitte ausreichend Brotzeit und Get
 ränke mitnehmen.\nGehzeit/Höhenmeter: ca. 6 Std. bei ca. 400 Hm, ca. 15 km\
 nAnforderung/Hinweise: leichte, aber lange Wanderung, Grundkondition für di
 e Wegstrecke von ca. 15 km nötig.\nBegrenzte Teilnehmerzahl, Anmeldung erfo
 rderlich bis So. 25.05.25\nTourenleitung: Heidi, Tel: 0176-49549773 \nMail:
  Diese E-Mail-Adresse ist vor Spambots geschützt! Zur Anzeige muss JavaScri
 pt eingeschaltet sein.\n
X-ALT-DESC;FMTTYPE=text/html:<p>Anstelle der geplanten Tour Rohntal / Tortal findet eine <em><strong>Son
 derveranstaltung</strong> </em>statt:</p><p><strong>Thema: Wildblumen- und 
 Wild-/Heilkräuter-Wanderung mit einer sehr erfahrenen Kräuterpädagogin</str
 ong>, mit Verkostung und/oder Herstellung von eigenem Kräutersalz</p><p>Uns
 ere zertifizierte Kräuterpädagogin Silvia ist vielseitig ausgebildet und ha
 t ein enorm umfangreiches Wissen über Pflanzen, Kräuter und Ernährung. Sie 
 versteht es bestens, dieses Wissen und ihre Begeisterung zu vermitteln.</p>
 <p>Wir beginnen am Vormittag mit einer kleinen Bergwanderung (ca. 400 Hm/ m
 ax.10 km). Witterungsbedingt entweder ab Unterammergau nähe Altherrenweg od
 er ab Pessenbach zur Ortereralm, wo wir mit Kleinigkeiten bewirtet werden k
 önnen.</p><p>Gegen Mittag treffen wir unsere Kräuterexpertin, die mit uns e
 ine Kräuterwanderung unternimmt (nochmal ca. 2 Stunden, 5 km im überwiegend
  ebenem Gelände).&nbsp; Sie zeigt uns Wildblumen und wilde Heilkräuter und 
 erklärt deren Nutzen und Wirkungen und vieles Interessantes mehr. Gerne geh
 t sie auf unsere Fragen ein.</p><p>Zum Abschluss verkosten wir selbstgeback
 ene Kräutersemmeln und Kräuterfrischkäse mit Kräutern aus dieser Region.</p
 ><p>Ich freue mich auf eure rege Teilnahme und euer Interesse an dieser bes
 onderen Veranstaltung. Es entstehen keine weiteren Kosten, außer unsere übl
 ichen Parkgebühren und Fahrtkosten.</p><p><strong>Abfahrt 7.30 Uhr</strong>
  am Parkplatz Paradiesweg Wolfratshausen</p><p>Einkehr: Ist nicht sicher. B
 itte ausreichend Brotzeit und Getränke mitnehmen.</p><p><strong>Gehzeit/Höh
 enmeter</strong>: ca. 6 Std. bei ca. 400 Hm, ca. 15 km</p><p><strong>Anford
 erung/Hinweise</strong>: leichte, aber lange Wanderung, Grundkondition für 
 die Wegstrecke von ca. 15 km nötig.</p><p>Begrenzte Teilnehmerzahl, <strong
 >Anmeldung erforderlich bis So. 25.05.25</strong></p><p><strong>Tourenleitu
 ng:</strong> Heidi, Tel: 0176-49549773 <br />Mail: <joomla-hidden-mail  is-
 link="1" is-email="1" first="aGVpZGkucw==" last="bmF0dXJmcmV1bmRlLXdvbGZyYX
 RzaGF1c2VuLmRl" text="aGVpZGkuc0BuYXR1cmZyZXVuZGUtd29sZnJhdHNoYXVzZW4uZGU="
  base="" >Diese E-Mail-Adresse ist vor Spambots geschützt! Zur Anzeige muss
  JavaScript eingeschaltet sein.</joomla-hidden-mail></p>
DTSTAMP:20260421T172754
DTSTART;TZID=Europe/Berlin:20250531T073000
SEQUENCE:0
TRANSP:OPAQUE
END:VEVENT
END:VCALENDAR