BEGIN:VCALENDAR
VERSION:2.0
PRODID:-//jEvents 2.0 for Joomla//EN
CALSCALE:GREGORIAN
METHOD:PUBLISH
BEGIN:VTIMEZONE
TZID:Europe/Berlin
BEGIN:STANDARD
DTSTART:20241027T020000
RDATE:20250330T030000
TZOFFSETFROM:+0200
TZOFFSETTO:+0100
TZNAME:Europe/Berlin CET
END:STANDARD
BEGIN:STANDARD
DTSTART:20251026T020000
RDATE:20260329T030000
TZOFFSETFROM:+0200
TZOFFSETTO:+0100
TZNAME:Europe/Berlin CET
END:STANDARD
BEGIN:STANDARD
DTSTART:20261025T020000
RDATE:20270328T030000
TZOFFSETFROM:+0200
TZOFFSETTO:+0100
TZNAME:Europe/Berlin CET
END:STANDARD
BEGIN:STANDARD
DTSTART:20271031T020000
RDATE:20280326T030000
TZOFFSETFROM:+0200
TZOFFSETTO:+0100
TZNAME:Europe/Berlin CET
END:STANDARD
BEGIN:DAYLIGHT
DTSTART:20240522T153000
RDATE:20241027T020000
TZOFFSETFROM:+0100
TZOFFSETTO:+0200
TZNAME:Europe/Berlin CEST
END:DAYLIGHT
BEGIN:DAYLIGHT
DTSTART:20250330T030000
RDATE:20251026T020000
TZOFFSETFROM:+0100
TZOFFSETTO:+0200
TZNAME:Europe/Berlin CEST
END:DAYLIGHT
BEGIN:DAYLIGHT
DTSTART:20260329T030000
RDATE:20261025T020000
TZOFFSETFROM:+0100
TZOFFSETTO:+0200
TZNAME:Europe/Berlin CEST
END:DAYLIGHT
BEGIN:DAYLIGHT
DTSTART:20270328T030000
RDATE:20271031T020000
TZOFFSETFROM:+0100
TZOFFSETTO:+0200
TZNAME:Europe/Berlin CEST
END:DAYLIGHT
END:VTIMEZONE
BEGIN:VEVENT
UID:9da36aa823f216d4017d6447059dc912
CATEGORIES:KIDZ
CREATED:20250515T173656
SUMMARY: Kidz Kayak
DESCRIPTION:<p>Wir treffen uns am Freitag, den 23.05.25 von 15:30 bis 17:30 Uhr an der 
 Naturfreunde Hütte am Badweiher in Wolfratshausen.</p><p>Eingeladen sind Ki
 nder ab 7 Jahren, die sich für das Kajakfahren interessieren.</p><p>Wir wer
 den spielerisch die ersten Erfahrungen im Kajak machen.</p><p>Die Kinder we
 rden von ausgebildeten Kanusport ÜbungsleiterInnen betreut.</p><p><strong>A
 nforderungen/Hinweise:</strong> Neoprenbekleidung, wassertaugliche Schuhe s
 owie Helm und Schwimmweste sind Pflicht.</p><p>Die Kinder müssen schwimmen 
 können!</p><p>Nach Rücksprache können Materialien soweit vorhanden ausgelie
 hen werden.</p><p>Es empfiehlt sich eine Brotzeit und ein Getränk mitzugebe
 n.</p><p>Es können auch Nicht-Vereinsmitglieder zum Schnuppern teilnehmen.<
 /p><p><strong>Eine verbindliche Anmeldung bis 21.5.25 17 Uhr ist unbedingt 
 erforderlich.</strong></p><p>Bei zu schlechten Wetterverhältnissen wird der
  Termin verschoben.</p><p>Durchführung: Anita Klement</p><p>Mail: <joomla-h
 idden-mail  is-link="1" is-email="1" first="YW5pdGEuaw==" last="bmF0dXJmcmV
 1bmRlLXdvbGZyYXRzaGF1c2VuLmRl" text="YW5pdGEua0BuYXR1cmZyZXVuZGUtd29sZnJhdH
 NoYXVzZW4uZGU=" base="" >Diese E-Mail-Adresse ist vor Spambots geschützt! Z
 ur Anzeige muss JavaScript eingeschaltet sein.</joomla-hidden-mail></p>
DTSTAMP:20260420T222530
DTSTART;TZID=Europe/Berlin:20250523T153000
DTEND;TZID=Europe/Berlin:20250523T173000
SEQUENCE:0
TRANSP:OPAQUE
END:VEVENT
END:VCALENDAR