BEGIN:VCALENDAR
VERSION:2.0
PRODID:-//jEvents 2.0 for Joomla//EN
CALSCALE:GREGORIAN
METHOD:PUBLISH
BEGIN:VTIMEZONE
TZID:Europe/Berlin
BEGIN:STANDARD
DTSTART:20250130T073000
RDATE:20250330T030000
TZOFFSETFROM:+0200
TZOFFSETTO:+0100
TZNAME:Europe/Berlin CET
END:STANDARD
BEGIN:STANDARD
DTSTART:20251026T020000
RDATE:20260329T030000
TZOFFSETFROM:+0200
TZOFFSETTO:+0100
TZNAME:Europe/Berlin CET
END:STANDARD
BEGIN:STANDARD
DTSTART:20261025T020000
RDATE:20270328T030000
TZOFFSETFROM:+0200
TZOFFSETTO:+0100
TZNAME:Europe/Berlin CET
END:STANDARD
BEGIN:STANDARD
DTSTART:20271031T020000
RDATE:20280326T030000
TZOFFSETFROM:+0200
TZOFFSETTO:+0100
TZNAME:Europe/Berlin CET
END:STANDARD
BEGIN:DAYLIGHT
DTSTART:20250330T030000
RDATE:20251026T020000
TZOFFSETFROM:+0100
TZOFFSETTO:+0200
TZNAME:Europe/Berlin CEST
END:DAYLIGHT
BEGIN:DAYLIGHT
DTSTART:20260329T030000
RDATE:20261025T020000
TZOFFSETFROM:+0100
TZOFFSETTO:+0200
TZNAME:Europe/Berlin CEST
END:DAYLIGHT
BEGIN:DAYLIGHT
DTSTART:20270328T030000
RDATE:20271031T020000
TZOFFSETFROM:+0100
TZOFFSETTO:+0200
TZNAME:Europe/Berlin CEST
END:DAYLIGHT
END:VTIMEZONE
BEGIN:VEVENT
UID:8f6b14823240e73874b173270299769d
CATEGORIES:Berg
CREATED:20251215T173135
SUMMARY:Winterwanderung auf den Wank, 1.780 m, Estergebirge
DESCRIPTION:<p><strong><span style="color: #ff0000;">Achtung Planänderung</span></stron
 g>&nbsp;wegen des König-Ludwig-Laufs und dem dort erwarteten Andrang und Ve
 rkehrsbehinderungen am Wochenende in Ettal und Oberammergau:&nbsp;Wir plane
 n jetzt am Samstag, 31.01., auf den Wank zu steigen statt wie ursprünglich 
 geplant am Sonntag, 01.02., auf die Scheinbergspitze in den Ammergauer Alpe
 n!</p><p>Der Wank im Südwesten des Estergebirges gilt als der Sonnenbalkon 
 von Garmisch-Partenkirchen und bietet bei klarer Sicht eine großartige Auss
 icht auf die Wettersteingipfel, allen voran Alpspitze und Zugspitze. Wir ne
 hmen den sonnigen Südwestanstieg vom Parkplatz der Wankbahn aus. Die Abstie
 gsroute werden wir gemeinsam nach den aktuellen Bedingungen vor Ort entsche
 iden; entweder wir steigen wieder über die Aufstiegsroute ab oder nehmen de
 n Weg über die Esterbergalm.<strong>&nbsp;</strong></p><p><strong>Treffpunk
 t:&nbsp;</strong>um 7:30 Uhr am Parkplatz Paradiesweg in Wolfratshausen und
  um 7:50 Uhr am Autobahnparkplatz bei Sindelsdorf</p><p><strong>Ausgangspun
 kt der Tour:</strong>&nbsp;Parkplatz bei der Talstation der Wankbahn in Gar
 misch-Partenkirchen</p><p><strong>Gehzeit/Höhenmeter/Strecke: </strong>ca. 
 6:30 Std/1.100 Hm/14 km</p><p><strong>Anforderung:</strong> mittelschwere B
 ergwanderung (T3, rot)</p><p><strong>Ausrüstung: </strong>Winterbekleidung 
 und unbedingt Grödel</p><p><strong>Einkehrmöglichkeit:</strong>&nbsp;Leider
  haben Sonnenalm und Wankhaus zur Zeit geschlossen, bitte daher ausreichend
  Brotzeit und Getränke mitnehmen; Einkehr dann hinterher.</p><p><strong>Tou
 renleitung:</strong> Alfred, Tel. 01573-8086089<br /><strong>Mail:</strong>
  <joomla-hidden-mail  is-link="1" is-email="1" first="YWxmcmVkLnM=" last="b
 mF0dXJmcmV1bmRlLXdvbGZyYXRzaGF1c2VuLmRl" text="YWxmcmVkLnNAbmF0dXJmcmV1bmRl
 LXdvbGZyYXRzaGF1c2VuLmRl" base="" >Diese E-Mail-Adresse ist vor Spambots ge
 schützt! Zur Anzeige muss JavaScript eingeschaltet sein.</joomla-hidden-mai
 l></p><p><strong>Anmeldung bis zum 30.01.2026 bei Alfred&nbsp;</strong></p>
DTSTAMP:20260420T160912
DTSTART;TZID=Europe/Berlin:20260131T073000
SEQUENCE:0
TRANSP:OPAQUE
END:VEVENT
END:VCALENDAR