BEGIN:VCALENDAR
VERSION:2.0
PRODID:-//jEvents 2.0 for Joomla//EN
CALSCALE:GREGORIAN
METHOD:PUBLISH
BEGIN:VTIMEZONE
TZID:Europe/Berlin
BEGIN:STANDARD
DTSTART:20251026T020000
RDATE:20260329T030000
TZOFFSETFROM:+0200
TZOFFSETTO:+0100
TZNAME:Europe/Berlin CET
END:STANDARD
BEGIN:STANDARD
DTSTART:20261025T020000
RDATE:20270328T030000
TZOFFSETFROM:+0200
TZOFFSETTO:+0100
TZNAME:Europe/Berlin CET
END:STANDARD
BEGIN:STANDARD
DTSTART:20271031T020000
RDATE:20280326T030000
TZOFFSETFROM:+0200
TZOFFSETTO:+0100
TZNAME:Europe/Berlin CET
END:STANDARD
BEGIN:DAYLIGHT
DTSTART:20250424T103000
RDATE:20251026T020000
TZOFFSETFROM:+0100
TZOFFSETTO:+0200
TZNAME:Europe/Berlin CEST
END:DAYLIGHT
BEGIN:DAYLIGHT
DTSTART:20260329T030000
RDATE:20261025T020000
TZOFFSETFROM:+0100
TZOFFSETTO:+0200
TZNAME:Europe/Berlin CEST
END:DAYLIGHT
BEGIN:DAYLIGHT
DTSTART:20270328T030000
RDATE:20271031T020000
TZOFFSETFROM:+0100
TZOFFSETTO:+0200
TZNAME:Europe/Berlin CEST
END:DAYLIGHT
END:VTIMEZONE
BEGIN:VEVENT
UID:6121a513760ae12299224b02f7d7e4de
CATEGORIES:KIDZ
CREATED:20260303T194736
SUMMARY:KIDZ Bike
LOCATION:Schulparkplatz Waldram (Verkehrsübungsplatz)
DESCRIPTION:Die Kidz treffen sich zum gemeinsamen Radeln. Flo wird mit uns  spielerisch
  Mountainbike Fahrtechnik einüben. Die Kinder brauchen ein technisch einwan
 dfreies Rad und zwingend einen Helm.\nWir empfehlen Handschuhe zu tragen.\n
 Gerne können auch Protektoren soweit vorhanden mitgebracht werden.\nBitte g
 ebt den Kindern eine kleine Brotzeit und ein Getränk mit.\nWeitere Informat
 ionen und Anmeldung bei Anita K.\n
X-ALT-DESC;FMTTYPE=text/html:<p>Die Kidz treffen sich zum gemeinsamen Radeln. Flo wird mit uns &nbsp;spi
 elerisch Mountainbike Fahrtechnik einüben. Die Kinder brauchen ein technisc
 h einwandfreies Rad und zwingend einen Helm.<br />Wir empfehlen Handschuhe 
 zu tragen.<br />Gerne können auch Protektoren soweit vorhanden mitgebracht 
 werden.<br />Bitte gebt den Kindern eine kleine Brotzeit und ein Getränk mi
 t.</p><p>Weitere Informationen und Anmeldung bei Anita K.</p>
CONTACT:Diese E-Mail-Adresse ist vor Spambots geschützt! Zur Anzeige muss JavaScript eingeschaltet sein.
DTSTAMP:20260421T231335
DTSTART;TZID=Europe/Berlin:20260425T103000
DTEND;TZID=Europe/Berlin:20260425T130000
SEQUENCE:0
TRANSP:OPAQUE
END:VEVENT
END:VCALENDAR